BEGIN:VCALENDAR
VERSION:2.0
PRODID:-//empowercdc.org//NONSGML kigkonsult.se iCalcreator 2.30.10//
CALSCALE:GREGORIAN
METHOD:PUBLISH
UID:4a43a3b8-ea04-413a-949e-cbd20c0eda58
X-WR-CALDESC:
X-WR-RELCALID:6fe3fc9f32914411169b15cf0a51f35b
X-WR-TIMEZONE:America/Chicago
BEGIN:VTIMEZONE
TZID:America/Chicago
BEGIN:STANDARD
TZNAME:CST
DTSTART:20201101T020000
TZOFFSETFROM:-0500
TZOFFSETTO:-0600
RDATE:20211107T020000
END:STANDARD
BEGIN:DAYLIGHT
TZNAME:CDT
DTSTART:20200308T020000
TZOFFSETFROM:-0600
TZOFFSETTO:-0500
RDATE:20210314T020000
RDATE:20220313T020000
END:DAYLIGHT
END:VTIMEZONE
BEGIN:VEVENT
UID:98e11e77-cf5f-408f-ba73-9466f6dc6537
DTSTAMP:20260424T173330Z
DESCRIPTION:
DTSTART;TZID=America/Chicago:20210226T140000
DTEND;TZID=America/Chicago:20210226T143000
LOCATION:
SUMMARY:DIY WREATH DISTRIBUTION
END:VEVENT
END:VCALENDAR
