BEGIN:VCALENDAR
VERSION:2.0
PRODID:-//empowercdc.org//NONSGML kigkonsult.se iCalcreator 2.30.10//
CALSCALE:GREGORIAN
METHOD:PUBLISH
UID:5fbc7f3f-3068-4a3a-9444-10c6ebdb693a
X-WR-CALDESC:
X-WR-RELCALID:f566da90e7e9fc889dd3b14e2c20b3b1
X-WR-TIMEZONE:America/Chicago
BEGIN:VTIMEZONE
TZID:America/Chicago
BEGIN:STANDARD
TZNAME:CST
DTSTART:20201101T020000
TZOFFSETFROM:-0500
TZOFFSETTO:-0600
RDATE:20211107T020000
END:STANDARD
BEGIN:DAYLIGHT
TZNAME:CDT
DTSTART:20200308T020000
TZOFFSETFROM:-0600
TZOFFSETTO:-0500
RDATE:20210314T020000
RDATE:20220313T020000
END:DAYLIGHT
END:VTIMEZONE
BEGIN:VEVENT
UID:48152b26-817d-4d6f-892d-1dece1539bef
DTSTAMP:20260424T173128Z
DESCRIPTION:
DTSTART;TZID=America/Chicago:20210225T160000
DTEND;TZID=America/Chicago:20210225T163000
LOCATION:
SUMMARY:BREATHING TECHNIQUES
END:VEVENT
END:VCALENDAR
