BEGIN:VCALENDAR
VERSION:2.0
PRODID:-//empowercdc.org//NONSGML kigkonsult.se iCalcreator 2.30.10//
CALSCALE:GREGORIAN
METHOD:PUBLISH
UID:cdae5a72-1ca6-4762-a262-b8607a844176
X-WR-CALDESC:
X-WR-RELCALID:7f9b38b8613e0e1fe785edb680529b12
X-WR-TIMEZONE:America/Chicago
BEGIN:VTIMEZONE
TZID:America/Chicago
BEGIN:STANDARD
TZNAME:CST
DTSTART:20201101T020000
TZOFFSETFROM:-0500
TZOFFSETTO:-0600
RDATE:20211107T020000
END:STANDARD
BEGIN:DAYLIGHT
TZNAME:CDT
DTSTART:20200308T020000
TZOFFSETFROM:-0600
TZOFFSETTO:-0500
RDATE:20210314T020000
RDATE:20220313T020000
END:DAYLIGHT
END:VTIMEZONE
BEGIN:VEVENT
UID:a284c4ac-0ecf-439a-a19d-301892e882df
DTSTAMP:20260424T173914Z
DESCRIPTION:
DTSTART;TZID=America/Chicago:20210224T140000
DTEND;TZID=America/Chicago:20210224T143000
LOCATION:
SUMMARY:Outdoor Birthday Social
END:VEVENT
END:VCALENDAR
