BEGIN:VCALENDAR
VERSION:2.0
PRODID:-//empowercdc.org//NONSGML kigkonsult.se iCalcreator 2.30.10//
CALSCALE:GREGORIAN
METHOD:PUBLISH
UID:a314a13f-5b80-40b3-82cf-c28218f05c83
X-WR-CALDESC:
X-WR-RELCALID:129addb1a0cb404d3d8a9b03c0b6a114
X-WR-TIMEZONE:America/Chicago
BEGIN:VTIMEZONE
TZID:America/Chicago
BEGIN:STANDARD
TZNAME:CST
DTSTART:20201101T020000
TZOFFSETFROM:-0500
TZOFFSETTO:-0600
RDATE:20211107T020000
END:STANDARD
BEGIN:DAYLIGHT
TZNAME:CDT
DTSTART:20200308T020000
TZOFFSETFROM:-0600
TZOFFSETTO:-0500
RDATE:20210314T020000
RDATE:20220313T020000
END:DAYLIGHT
END:VTIMEZONE
BEGIN:VEVENT
UID:1fcd5876-9d0d-4768-8d48-4f8eaf59fc3e
DTSTAMP:20260424T173611Z
DESCRIPTION:
DTSTART;TZID=America/Chicago:20210224T120000
DTEND;TZID=America/Chicago:20210224T130000
LOCATION:
SUMMARY:Stress Relief Stretching
END:VEVENT
END:VCALENDAR
