BEGIN:VCALENDAR
VERSION:2.0
PRODID:-//empowercdc.org//NONSGML kigkonsult.se iCalcreator 2.30.10//
CALSCALE:GREGORIAN
METHOD:PUBLISH
UID:13f74378-884c-44f5-9686-ca372f589fdc
X-WR-CALDESC:This fun button art craft is sure to be a hit for people of al
 l ages
X-WR-RELCALID:9a292faf9ce00975d0a142507bda5710
X-WR-TIMEZONE:America/Chicago
BEGIN:VTIMEZONE
TZID:America/Chicago
BEGIN:STANDARD
TZNAME:CST
DTSTART:20201101T020000
TZOFFSETFROM:-0500
TZOFFSETTO:-0600
RDATE:20211107T020000
END:STANDARD
BEGIN:DAYLIGHT
TZNAME:CDT
DTSTART:20200308T020000
TZOFFSETFROM:-0600
TZOFFSETTO:-0500
RDATE:20210314T020000
RDATE:20220313T020000
END:DAYLIGHT
END:VTIMEZONE
BEGIN:VEVENT
UID:146f1340-e02d-4e18-bc8d-ffdf7ef75005
DTSTAMP:20260424T173125Z
DESCRIPTION:This fun button art craft is sure to be a hit for people of all
  ages
DTSTART;TZID=America/Chicago:20210223T120000
DTEND;TZID=America/Chicago:20210223T123000
LOCATION:
SUMMARY:DIY Button Tree Craft Distribution
END:VEVENT
END:VCALENDAR
