BEGIN:VCALENDAR
VERSION:2.0
PRODID:-//empowercdc.org//NONSGML kigkonsult.se iCalcreator 2.30.10//
CALSCALE:GREGORIAN
METHOD:PUBLISH
UID:f10c1b2a-509f-4f70-aa1c-1c7b35772f3d
X-WR-CALDESC:This fun button art craft is sure to be a hit for people of al
 l ages.
X-WR-RELCALID:3858fa447c16a5b4c5d7f9f3a9976beb
X-WR-TIMEZONE:America/Chicago
BEGIN:VTIMEZONE
TZID:America/Chicago
BEGIN:STANDARD
TZNAME:CST
DTSTART:20201101T020000
TZOFFSETFROM:-0500
TZOFFSETTO:-0600
RDATE:20211107T020000
END:STANDARD
BEGIN:DAYLIGHT
TZNAME:CDT
DTSTART:20200308T020000
TZOFFSETFROM:-0600
TZOFFSETTO:-0500
RDATE:20210314T020000
RDATE:20220313T020000
END:DAYLIGHT
END:VTIMEZONE
BEGIN:VEVENT
UID:149acfd0-7df0-489e-ad92-a25bd9327658
DTSTAMP:20260424T173149Z
DESCRIPTION:This fun button art craft is sure to be a hit for people of all
  ages.
DTSTART;TZID=America/Chicago:20210223T140000
DTEND;TZID=America/Chicago:20210223T143000
LOCATION:
SUMMARY:DIY Button Tree Craft Distribution
END:VEVENT
END:VCALENDAR
