BEGIN:VCALENDAR
VERSION:2.0
PRODID:-//empowercdc.org//NONSGML kigkonsult.se iCalcreator 2.30.10//
CALSCALE:GREGORIAN
METHOD:PUBLISH
UID:dd1149a4-c9cd-4a57-a97c-c319991d25dc
X-WR-CALDESC:
X-WR-RELCALID:134dd5f6f9a83a2c060dd18ccfc3d7b0
X-WR-TIMEZONE:America/Chicago
BEGIN:VTIMEZONE
TZID:America/Chicago
BEGIN:STANDARD
TZNAME:CST
DTSTART:20201101T020000
TZOFFSETFROM:-0500
TZOFFSETTO:-0600
RDATE:20211107T020000
END:STANDARD
BEGIN:DAYLIGHT
TZNAME:CDT
DTSTART:20200308T020000
TZOFFSETFROM:-0600
TZOFFSETTO:-0500
RDATE:20210314T020000
RDATE:20220313T020000
END:DAYLIGHT
END:VTIMEZONE
BEGIN:VEVENT
UID:162c81d3-0ac4-4a6d-88d4-d804a641bf72
DTSTAMP:20260424T173628Z
DESCRIPTION:
DTSTART;TZID=America/Chicago:20210218T150000
DTEND;TZID=America/Chicago:20210218T153000
LOCATION:
SUMMARY:Monthly Food Pantry
END:VEVENT
END:VCALENDAR
