BEGIN:VCALENDAR
VERSION:2.0
PRODID:-//empowercdc.org//NONSGML kigkonsult.se iCalcreator 2.30.10//
CALSCALE:GREGORIAN
METHOD:PUBLISH
UID:4621b2d7-9287-4bee-a22d-85db583cf6f4
X-WR-CALDESC:
X-WR-RELCALID:ede095eb504b413732e562c10fc741f7
X-WR-TIMEZONE:America/Chicago
BEGIN:VTIMEZONE
TZID:America/Chicago
BEGIN:STANDARD
TZNAME:CST
DTSTART:20201101T020000
TZOFFSETFROM:-0500
TZOFFSETTO:-0600
RDATE:20211107T020000
END:STANDARD
BEGIN:DAYLIGHT
TZNAME:CDT
DTSTART:20200308T020000
TZOFFSETFROM:-0600
TZOFFSETTO:-0500
RDATE:20210314T020000
RDATE:20220313T020000
END:DAYLIGHT
END:VTIMEZONE
BEGIN:VEVENT
UID:0dde4f73-f861-469d-a892-44a956657440
DTSTAMP:20260424T173755Z
DESCRIPTION:
DTSTART;TZID=America/Chicago:20210218T140000
DTEND;TZID=America/Chicago:20210218T170000
LOCATION:
SUMMARY:Arts & Crafts
END:VEVENT
END:VCALENDAR
