BEGIN:VCALENDAR
VERSION:2.0
PRODID:-//empowercdc.org//NONSGML kigkonsult.se iCalcreator 2.30.10//
CALSCALE:GREGORIAN
METHOD:PUBLISH
UID:ec6a4378-9613-4eed-94df-32157bfb306b
X-WR-CALDESC:
X-WR-RELCALID:ab6988342feb74df2dcdec1b7887e28a
X-WR-TIMEZONE:America/Chicago
BEGIN:VTIMEZONE
TZID:America/Chicago
BEGIN:STANDARD
TZNAME:CST
DTSTART:20201101T020000
TZOFFSETFROM:-0500
TZOFFSETTO:-0600
RDATE:20211107T020000
END:STANDARD
BEGIN:DAYLIGHT
TZNAME:CDT
DTSTART:20200308T020000
TZOFFSETFROM:-0600
TZOFFSETTO:-0500
RDATE:20210314T020000
RDATE:20220313T020000
END:DAYLIGHT
END:VTIMEZONE
BEGIN:VEVENT
UID:20377cc2-29da-401a-89f2-34d4870c7ebb
DTSTAMP:20260424T174057Z
DESCRIPTION:
DTSTART;TZID=America/Chicago:20210217T090000
DTEND;TZID=America/Chicago:20210217T100000
LOCATION:
SUMMARY:ROSENBERG/RICHMOND HELPING HANDS FOOD PANTRY TRIP
END:VEVENT
END:VCALENDAR
