BEGIN:VCALENDAR
VERSION:2.0
PRODID:-//empowercdc.org//NONSGML kigkonsult.se iCalcreator 2.30.10//
CALSCALE:GREGORIAN
METHOD:PUBLISH
UID:fa656723-48a7-4c6d-885a-be28e656012d
X-WR-CALDESC:
X-WR-RELCALID:3fd3a2fc5768e9618bd215addd259cf0
X-WR-TIMEZONE:America/Chicago
BEGIN:VTIMEZONE
TZID:America/Chicago
BEGIN:STANDARD
TZNAME:CST
DTSTART:20201101T020000
TZOFFSETFROM:-0500
TZOFFSETTO:-0600
RDATE:20211107T020000
END:STANDARD
BEGIN:DAYLIGHT
TZNAME:CDT
DTSTART:20200308T020000
TZOFFSETFROM:-0600
TZOFFSETTO:-0500
RDATE:20210314T020000
RDATE:20220313T020000
END:DAYLIGHT
END:VTIMEZONE
BEGIN:VEVENT
UID:f9fb7e1e-117a-44cf-8fc2-059e7472d7f6
DTSTAMP:20260424T175011Z
DESCRIPTION:
DTSTART;TZID=America/Chicago:20210212T120000
DTEND;TZID=America/Chicago:20210212T123000
LOCATION:
SUMMARY:OUTDOOR GRAB AND GO VALENTINE’S DAY TREATS
END:VEVENT
END:VCALENDAR
