BEGIN:VCALENDAR
VERSION:2.0
PRODID:-//empowercdc.org//NONSGML kigkonsult.se iCalcreator 2.30.10//
CALSCALE:GREGORIAN
METHOD:PUBLISH
UID:0e0f348e-d740-4326-a81c-618b283e88e6
X-WR-CALDESC:
X-WR-RELCALID:1e4adc8830abdce22fd6010dbea12c44
X-WR-TIMEZONE:America/Chicago
BEGIN:VTIMEZONE
TZID:America/Chicago
BEGIN:STANDARD
TZNAME:CST
DTSTART:20201101T020000
TZOFFSETFROM:-0500
TZOFFSETTO:-0600
RDATE:20211107T020000
END:STANDARD
BEGIN:DAYLIGHT
TZNAME:CDT
DTSTART:20200308T020000
TZOFFSETFROM:-0600
TZOFFSETTO:-0500
RDATE:20210314T020000
RDATE:20220313T020000
END:DAYLIGHT
END:VTIMEZONE
BEGIN:VEVENT
UID:507a57c2-cd47-4553-bd5b-9fb82f380be0
DTSTAMP:20260424T173422Z
DESCRIPTION:
DTSTART;TZID=America/Chicago:20210212T120000
DTEND;TZID=America/Chicago:20210212T130000
LOCATION:
SUMMARY:Monthly Transportation-Walmart
END:VEVENT
END:VCALENDAR
