BEGIN:VCALENDAR
VERSION:2.0
PRODID:-//empowercdc.org//NONSGML kigkonsult.se iCalcreator 2.30.10//
CALSCALE:GREGORIAN
METHOD:PUBLISH
UID:c645519b-c24e-4c49-a5de-d6850d1f450b
X-WR-CALDESC:
X-WR-RELCALID:29ecaceda9b1438583742fc8307f77e0
X-WR-TIMEZONE:America/Chicago
BEGIN:VTIMEZONE
TZID:America/Chicago
BEGIN:STANDARD
TZNAME:CST
DTSTART:20201101T020000
TZOFFSETFROM:-0500
TZOFFSETTO:-0600
RDATE:20211107T020000
END:STANDARD
BEGIN:DAYLIGHT
TZNAME:CDT
DTSTART:20200308T020000
TZOFFSETFROM:-0600
TZOFFSETTO:-0500
RDATE:20210314T020000
RDATE:20220313T020000
END:DAYLIGHT
END:VTIMEZONE
BEGIN:VEVENT
UID:07e8d429-a8f0-4d6f-aba0-c7a8ff7bfeb1
DTSTAMP:20260424T173455Z
DESCRIPTION:
DTSTART;TZID=America/Chicago:20210204T140000
DTEND;TZID=America/Chicago:20210204T170000
LOCATION:
SUMMARY:Arts & Crafts
END:VEVENT
END:VCALENDAR
