BEGIN:VCALENDAR
VERSION:2.0
PRODID:-//empowercdc.org//NONSGML kigkonsult.se iCalcreator 2.30.10//
CALSCALE:GREGORIAN
METHOD:PUBLISH
UID:15fdcf55-663e-422b-b35a-64509a023f6c
X-WR-CALDESC:
X-WR-RELCALID:5ec018baab9332a2a379ad234d117772
X-WR-TIMEZONE:America/Chicago
BEGIN:VTIMEZONE
TZID:America/Chicago
BEGIN:STANDARD
TZNAME:CST
DTSTART:20201101T020000
TZOFFSETFROM:-0500
TZOFFSETTO:-0600
RDATE:20211107T020000
END:STANDARD
BEGIN:DAYLIGHT
TZNAME:CDT
DTSTART:20200308T020000
TZOFFSETFROM:-0600
TZOFFSETTO:-0500
RDATE:20210314T020000
RDATE:20220313T020000
END:DAYLIGHT
END:VTIMEZONE
BEGIN:VEVENT
UID:eb3cb992-8fc2-440c-a633-23fef45988aa
DTSTAMP:20260424T190544Z
DESCRIPTION:
DTSTART;TZID=America/Chicago:20210127T120000
DTEND;TZID=America/Chicago:20210127T130000
LOCATION:
SUMMARY:Stress Relief Stretching
END:VEVENT
END:VCALENDAR
