BEGIN:VCALENDAR
VERSION:2.0
PRODID:-//empowercdc.org//NONSGML kigkonsult.se iCalcreator 2.30.10//
CALSCALE:GREGORIAN
METHOD:PUBLISH
UID:491eb0f1-b7d7-4645-95fb-484837ca9be9
X-WR-CALDESC:EBH will distribute masks to the residents of Campanile at Jon
 es Creek. The residents will have the option to receive a mask that requir
 es them to sew themselves or a sewn mask. All attendees will automatically
  enter the raffle. The winner will be contacted directly.  Feel free to wa
 lk up or drive up. A limited number of masks will be available.
X-WR-RELCALID:52f2b04bba5fe44d57f7cd90f583743c
X-WR-TIMEZONE:America/Chicago
BEGIN:VTIMEZONE
TZID:America/Chicago
BEGIN:STANDARD
TZNAME:CST
DTSTART:20201101T020000
TZOFFSETFROM:-0500
TZOFFSETTO:-0600
RDATE:20211107T020000
END:STANDARD
BEGIN:DAYLIGHT
TZNAME:CDT
DTSTART:20200308T020000
TZOFFSETFROM:-0600
TZOFFSETTO:-0500
RDATE:20210314T020000
RDATE:20220313T020000
END:DAYLIGHT
END:VTIMEZONE
BEGIN:VEVENT
UID:97a82bab-d1d8-4d26-b097-cbbb0540d516
DTSTAMP:20260424T190308Z
DESCRIPTION:EBH will distribute masks to the residents of Campanile at Jone
 s Creek. The residents will have the option to receive a mask that require
 s them to sew themselves or a sewn mask. All attendees will automatically 
 enter the raffle. The winner will be contacted directly.  Feel free to wal
 k up or drive up. A limited number of masks will be available.
DTSTART;TZID=America/Chicago:20210125T120000
DTEND;TZID=America/Chicago:20210125T123000
LOCATION:
SUMMARY:DIY Mask Distribution & Raffle
END:VEVENT
END:VCALENDAR
