BEGIN:VCALENDAR
VERSION:2.0
PRODID:-//empowercdc.org//NONSGML kigkonsult.se iCalcreator 2.30.10//
CALSCALE:GREGORIAN
METHOD:PUBLISH
UID:9c356da6-4971-456e-bdca-bda19fe34fe7
X-WR-CALDESC:Are you ready for Medicare? Don't wait until you are 65! Under
 stand Medicare now! Get Help! Program presented by United Healthcare. Call
 \, text\, email to reserve a spot.
X-WR-RELCALID:c56f4c51bcdcdae4b9d94919bc6486ea
X-WR-TIMEZONE:America/Chicago
BEGIN:VTIMEZONE
TZID:America/Chicago
BEGIN:STANDARD
TZNAME:CST
DTSTART:20201101T020000
TZOFFSETFROM:-0500
TZOFFSETTO:-0600
RDATE:20211107T020000
END:STANDARD
BEGIN:DAYLIGHT
TZNAME:CDT
DTSTART:20200308T020000
TZOFFSETFROM:-0600
TZOFFSETTO:-0500
RDATE:20210314T020000
RDATE:20220313T020000
END:DAYLIGHT
END:VTIMEZONE
BEGIN:VEVENT
UID:425bb988-cd49-4fd0-b35e-d8189bc0cf4c
DTSTAMP:20260424T190841Z
DESCRIPTION:Are you ready for Medicare? Don't wait until you are 65! Unders
 tand Medicare now! Get Help! Program presented by United Healthcare. Call\
 , text\, email to reserve a spot.
DTSTART;TZID=America/Chicago:20210122T160000
DTEND;TZID=America/Chicago:20210122T163000
LOCATION:
SUMMARY:LET’S TALK ABOUT MEDICARE: CHAT WITH HEALTHCARE PLAN PROVIDER VIRTU
 AL WORKSHOP
END:VEVENT
END:VCALENDAR
