BEGIN:VCALENDAR
VERSION:2.0
PRODID:-//empowercdc.org//NONSGML kigkonsult.se iCalcreator 2.30.10//
CALSCALE:GREGORIAN
METHOD:PUBLISH
UID:65f34c53-05ec-4be6-b903-1657a4d9db8f
X-WR-CALDESC:Come join us! There will be a raffle\, cupcakes and ice cream!
X-WR-RELCALID:4a803be664933f91cb72452a943f7c74
X-WR-TIMEZONE:America/Chicago
BEGIN:VTIMEZONE
TZID:America/Chicago
BEGIN:STANDARD
TZNAME:CST
DTSTART:20201101T020000
TZOFFSETFROM:-0500
TZOFFSETTO:-0600
RDATE:20211107T020000
END:STANDARD
BEGIN:DAYLIGHT
TZNAME:CDT
DTSTART:20200308T020000
TZOFFSETFROM:-0600
TZOFFSETTO:-0500
RDATE:20210314T020000
RDATE:20220313T020000
END:DAYLIGHT
END:VTIMEZONE
BEGIN:VEVENT
UID:a4c00790-2330-4ad0-a97e-91a85ddb8fba
DTSTAMP:20260424T190841Z
DESCRIPTION:Come join us! There will be a raffle\, cupcakes and ice cream!
DTSTART;TZID=America/Chicago:20210120T140000
DTEND;TZID=America/Chicago:20210120T143000
LOCATION:
SUMMARY:Grab and Go Birthday Social
END:VEVENT
END:VCALENDAR
