BEGIN:VCALENDAR
VERSION:2.0
PRODID:-//empowercdc.org//NONSGML kigkonsult.se iCalcreator 2.30.10//
CALSCALE:GREGORIAN
METHOD:PUBLISH
UID:0d2617e2-f301-4375-94e6-17114fd7b77e
X-WR-CALDESC:
X-WR-RELCALID:6e7607700e4184d308c09970e4102911
X-WR-TIMEZONE:America/Chicago
BEGIN:VTIMEZONE
TZID:America/Chicago
BEGIN:STANDARD
TZNAME:CST
DTSTART:20201101T020000
TZOFFSETFROM:-0500
TZOFFSETTO:-0600
RDATE:20211107T020000
END:STANDARD
BEGIN:DAYLIGHT
TZNAME:CDT
DTSTART:20200308T020000
TZOFFSETFROM:-0600
TZOFFSETTO:-0500
RDATE:20210314T020000
RDATE:20220313T020000
END:DAYLIGHT
END:VTIMEZONE
BEGIN:VEVENT
UID:8db9743a-ef96-45da-af6e-5793a051bdcf
DTSTAMP:20260424T190544Z
DESCRIPTION:
DTSTART;TZID=America/Chicago:20210120T120000
DTEND;TZID=America/Chicago:20210120T130000
LOCATION:
SUMMARY:Stress Relief Stretching
END:VEVENT
END:VCALENDAR
