BEGIN:VCALENDAR
VERSION:2.0
PRODID:-//empowercdc.org//NONSGML kigkonsult.se iCalcreator 2.30.10//
CALSCALE:GREGORIAN
METHOD:PUBLISH
UID:d3f2a493-f400-4055-a85b-b69c3704e96d
X-WR-CALDESC:EBH will distribute masks to the residents of Hollyoak. The re
 sidents will have the option to receive a mask that requires them to sew t
 hemselves or a sewn mask. All attendees will automatically enter the raffl
 e. The winner will be contacted directly.  Feel free to walk up or drive u
 p. A limited number of masks will be available.
X-WR-RELCALID:7a27d4a4ba8008152c4b2b30adfb4ac0
X-WR-TIMEZONE:America/Chicago
BEGIN:VTIMEZONE
TZID:America/Chicago
BEGIN:STANDARD
TZNAME:CST
DTSTART:20201101T020000
TZOFFSETFROM:-0500
TZOFFSETTO:-0600
RDATE:20211107T020000
END:STANDARD
BEGIN:DAYLIGHT
TZNAME:CDT
DTSTART:20200308T020000
TZOFFSETFROM:-0600
TZOFFSETTO:-0500
RDATE:20210314T020000
RDATE:20220313T020000
END:DAYLIGHT
END:VTIMEZONE
BEGIN:VEVENT
UID:613e2509-1b67-4648-804b-4bb9c5736b01
DTSTAMP:20260424T190149Z
DESCRIPTION:EBH will distribute masks to the residents of Hollyoak. The res
 idents will have the option to receive a mask that requires them to sew th
 emselves or a sewn mask. All attendees will automatically enter the raffle
 . The winner will be contacted directly.  Feel free to walk up or drive up
 . A limited number of masks will be available.
DTSTART;TZID=America/Chicago:20210119T140000
DTEND;TZID=America/Chicago:20210119T143000
LOCATION:
SUMMARY:DIY Mask Distribution & Raffle
END:VEVENT
END:VCALENDAR
