BEGIN:VCALENDAR
VERSION:2.0
PRODID:-//empowercdc.org//NONSGML kigkonsult.se iCalcreator 2.30.10//
CALSCALE:GREGORIAN
METHOD:PUBLISH
UID:28abb618-316c-43ef-9dcd-a2bec130ea9d
X-WR-CALDESC:Learn how to sustain independence through healthy meal pattern
 s\, resource management\, and physical activity!
X-WR-RELCALID:a76319649c2f7d11c7a95fcd0b0b9d3f
X-WR-TIMEZONE:America/Chicago
BEGIN:VTIMEZONE
TZID:America/Chicago
BEGIN:STANDARD
TZNAME:CST
DTSTART:20201101T020000
TZOFFSETFROM:-0500
TZOFFSETTO:-0600
RDATE:20211107T020000
END:STANDARD
BEGIN:DAYLIGHT
TZNAME:CDT
DTSTART:20200308T020000
TZOFFSETFROM:-0600
TZOFFSETTO:-0500
RDATE:20210314T020000
RDATE:20220313T020000
END:DAYLIGHT
END:VTIMEZONE
BEGIN:VEVENT
UID:20407f77-7015-46b4-977d-d2fba01e102d
DTSTAMP:20260424T190103Z
DESCRIPTION:Learn how to sustain independence through healthy meal patterns
 \, resource management\, and physical activity!
DTSTART;TZID=America/Chicago:20210114T090000
DTEND;TZID=America/Chicago:20210114T100000
LOCATION:
SUMMARY:JOY Fully Healthy Virtual Workshop
END:VEVENT
END:VCALENDAR
