BEGIN:VCALENDAR
VERSION:2.0
PRODID:-//empowercdc.org//NONSGML kigkonsult.se iCalcreator 2.30.10//
CALSCALE:GREGORIAN
METHOD:PUBLISH
UID:e21795c1-9dc5-4847-8e1b-fa49a3907099
X-WR-CALDESC:Complimentary grocery trip. Please RSVP to attend.
X-WR-RELCALID:92734f5d4b7ccd0f23879faba8dcaa89
X-WR-TIMEZONE:America/Chicago
BEGIN:VTIMEZONE
TZID:America/Chicago
BEGIN:STANDARD
TZNAME:CST
DTSTART:20201101T020000
TZOFFSETFROM:-0500
TZOFFSETTO:-0600
RDATE:20211107T020000
END:STANDARD
BEGIN:DAYLIGHT
TZNAME:CDT
DTSTART:20200308T020000
TZOFFSETFROM:-0600
TZOFFSETTO:-0500
RDATE:20210314T020000
RDATE:20220313T020000
END:DAYLIGHT
END:VTIMEZONE
BEGIN:VEVENT
UID:49c4d726-e578-4917-bf5f-11b82254bb1e
DTSTAMP:20260424T185606Z
DESCRIPTION:Complimentary grocery trip. Please RSVP to attend.
DTSTART;TZID=America/Chicago:20210108T120000
DTEND;TZID=America/Chicago:20210108T130000
LOCATION:
SUMMARY:Kroger Trip
END:VEVENT
END:VCALENDAR
