BEGIN:VCALENDAR
VERSION:2.0
PRODID:-//empowercdc.org//NONSGML kigkonsult.se iCalcreator 2.30.10//
CALSCALE:GREGORIAN
METHOD:PUBLISH
UID:e77c4576-3c51-4972-a97b-534daab09b02
X-WR-CALDESC:
X-WR-RELCALID:67e3d307622449f0915dd85b8beb5da3
X-WR-TIMEZONE:America/Chicago
BEGIN:VTIMEZONE
TZID:America/Chicago
BEGIN:STANDARD
TZNAME:CST
DTSTART:20201101T020000
TZOFFSETFROM:-0500
TZOFFSETTO:-0600
RDATE:20211107T020000
END:STANDARD
BEGIN:DAYLIGHT
TZNAME:CDT
DTSTART:20200308T020000
TZOFFSETFROM:-0600
TZOFFSETTO:-0500
RDATE:20210314T020000
RDATE:20220313T020000
END:DAYLIGHT
END:VTIMEZONE
BEGIN:VEVENT
UID:79508376-8f21-4e92-8776-a7dc629d55f6
DTSTAMP:20260424T202910Z
DESCRIPTION:
DTSTART;TZID=America/Chicago:20201228T093000
DTEND;TZID=America/Chicago:20201228T103000
LOCATION:
SUMMARY:Transportation: Walmart
END:VEVENT
END:VCALENDAR
