BEGIN:VCALENDAR
VERSION:2.0
PRODID:-//empowercdc.org//NONSGML kigkonsult.se iCalcreator 2.30.10//
CALSCALE:GREGORIAN
METHOD:PUBLISH
UID:9c3010c3-2eca-42f6-b33b-5af5b07d8ab0
X-WR-CALDESC:Learn how to sustain independence through healthy meal pattern
 s\, resource management\, and physical activity.
X-WR-RELCALID:c2b50e17e7e63f263c06c3be8c4f017f
X-WR-TIMEZONE:America/Chicago
BEGIN:VTIMEZONE
TZID:America/Chicago
BEGIN:STANDARD
TZNAME:CST
DTSTART:20201101T020000
TZOFFSETFROM:-0500
TZOFFSETTO:-0600
RDATE:20211107T020000
END:STANDARD
BEGIN:DAYLIGHT
TZNAME:CDT
DTSTART:20200308T020000
TZOFFSETFROM:-0600
TZOFFSETTO:-0500
RDATE:20210314T020000
RDATE:20220313T020000
END:DAYLIGHT
END:VTIMEZONE
BEGIN:VEVENT
UID:61ac21a8-883b-4910-9149-d014ee6e96b0
DTSTAMP:20260424T203023Z
DESCRIPTION:Learn how to sustain independence through healthy meal patterns
 \, resource management\, and physical activity.
DTSTART;TZID=America/Chicago:20201225T173000
DTEND;TZID=America/Chicago:20201225T183000
LOCATION:
SUMMARY:Joyfully Healthy
END:VEVENT
END:VCALENDAR
