BEGIN:VCALENDAR
VERSION:2.0
PRODID:-//empowercdc.org//NONSGML kigkonsult.se iCalcreator 2.30.10//
CALSCALE:GREGORIAN
METHOD:PUBLISH
UID:59c37a1f-15ca-4543-bc87-ec5cb919239c
X-WR-CALDESC:Heritage Bingo every 2nd & 4th\nWednesday of the month from\n3
 PM - 5PM in the Club Room.\nYou must register in order to\nparticipate. Li
 mited to 20 participants.\nSignup sheets are in the Club Room.\nFUN\, GRAB
  AND GO SNACKS & PRIZES!
X-WR-RELCALID:d22b26243c34116895605d50853a8e39
X-WR-TIMEZONE:America/Chicago
BEGIN:VTIMEZONE
TZID:America/Chicago
BEGIN:STANDARD
TZNAME:CST
DTSTART:20201101T020000
TZOFFSETFROM:-0500
TZOFFSETTO:-0600
RDATE:20211107T020000
END:STANDARD
BEGIN:DAYLIGHT
TZNAME:CDT
DTSTART:20200308T020000
TZOFFSETFROM:-0600
TZOFFSETTO:-0500
RDATE:20210314T020000
RDATE:20220313T020000
END:DAYLIGHT
END:VTIMEZONE
BEGIN:VEVENT
UID:122ec327-7b1e-4106-9ca6-024331df4ba9
DTSTAMP:20260424T202909Z
DESCRIPTION:Heritage Bingo every 2nd & 4th\nWednesday of the month from\n3P
 M - 5PM in the Club Room.\nYou must register in order to\nparticipate. Lim
 ited to 20 participants.\nSignup sheets are in the Club Room.\nFUN\, GRAB 
 AND GO SNACKS & PRIZES!
DTSTART;TZID=America/Chicago:20201223T150000
DTEND;TZID=America/Chicago:20201223T170000
LOCATION:
SUMMARY:Senior Bingo
END:VEVENT
END:VCALENDAR
