BEGIN:VCALENDAR
VERSION:2.0
PRODID:-//empowercdc.org//NONSGML kigkonsult.se iCalcreator 2.30.10//
CALSCALE:GREGORIAN
METHOD:PUBLISH
UID:9168cfcc-0e36-4b18-8447-19a9fa2e5437
X-WR-CALDESC:Tai chi is a Chinese form of martial arts that involves slow\,
  controlled and low-impact movements that can be easy for seniors — even t
 hose with limited movement.
X-WR-RELCALID:e121a75d5259778a46f26e136dedcec7
X-WR-TIMEZONE:America/Chicago
BEGIN:VTIMEZONE
TZID:America/Chicago
BEGIN:STANDARD
TZNAME:CST
DTSTART:20201101T020000
TZOFFSETFROM:-0500
TZOFFSETTO:-0600
RDATE:20211107T020000
END:STANDARD
BEGIN:DAYLIGHT
TZNAME:CDT
DTSTART:20200308T020000
TZOFFSETFROM:-0600
TZOFFSETTO:-0500
RDATE:20210314T020000
RDATE:20220313T020000
END:DAYLIGHT
END:VTIMEZONE
BEGIN:VEVENT
UID:22572fad-41d4-4d14-a5ad-52ada5e5bd1f
DTSTAMP:20260424T203109Z
DESCRIPTION:Tai chi is a Chinese form of martial arts that involves slow\, 
 controlled and low-impact movements that can be easy for seniors — even th
 ose with limited movement.
DTSTART;TZID=America/Chicago:20201223T093000
DTEND;TZID=America/Chicago:20201223T103000
LOCATION:
SUMMARY:Virtual Tai Chi hosted by Baker Ripley
END:VEVENT
END:VCALENDAR
