BEGIN:VCALENDAR
VERSION:2.0
PRODID:-//empowercdc.org//NONSGML kigkonsult.se iCalcreator 2.30.10//
CALSCALE:GREGORIAN
METHOD:PUBLISH
UID:2abbd055-8945-43d8-8a89-0cd3bea813d9
X-WR-CALDESC:Stop by and answer some trivia questions. Residents who guess 
 correctly will get a snack.
X-WR-RELCALID:ec976f3a2e418afee69a023edc6faa7f
X-WR-TIMEZONE:America/Chicago
BEGIN:VTIMEZONE
TZID:America/Chicago
BEGIN:STANDARD
TZNAME:CST
DTSTART:20201101T020000
TZOFFSETFROM:-0500
TZOFFSETTO:-0600
RDATE:20211107T020000
END:STANDARD
BEGIN:DAYLIGHT
TZNAME:CDT
DTSTART:20200308T020000
TZOFFSETFROM:-0600
TZOFFSETTO:-0500
RDATE:20210314T020000
RDATE:20220313T020000
END:DAYLIGHT
END:VTIMEZONE
BEGIN:VEVENT
UID:ce5b3012-a77e-4989-bfd0-1d0f350f9d7e
DTSTAMP:20260424T202940Z
DESCRIPTION:Stop by and answer some trivia questions. Residents who guess c
 orrectly will get a snack.
DTSTART;TZID=America/Chicago:20201222T140000
DTEND;TZID=America/Chicago:20201222T143000
LOCATION:
SUMMARY:Trivia Grab And Go Event
END:VEVENT
END:VCALENDAR
