BEGIN:VCALENDAR
VERSION:2.0
PRODID:-//empowercdc.org//NONSGML kigkonsult.se iCalcreator 2.30.10//
CALSCALE:GREGORIAN
METHOD:PUBLISH
UID:ba890686-feab-4395-a245-a3bfc9e14e29
X-WR-CALDESC:
X-WR-RELCALID:4fa7328aae4af61e43ba9bf7c054d698
X-WR-TIMEZONE:America/Chicago
BEGIN:VTIMEZONE
TZID:America/Chicago
BEGIN:STANDARD
TZNAME:CST
DTSTART:20201101T020000
TZOFFSETFROM:-0500
TZOFFSETTO:-0600
RDATE:20211107T020000
END:STANDARD
BEGIN:DAYLIGHT
TZNAME:CDT
DTSTART:20200308T020000
TZOFFSETFROM:-0600
TZOFFSETTO:-0500
RDATE:20210314T020000
RDATE:20220313T020000
END:DAYLIGHT
END:VTIMEZONE
BEGIN:VEVENT
UID:82b4685e-e33a-4ae3-be0c-2c5de749a5b6
DTSTAMP:20260424T202905Z
DESCRIPTION:
DTSTART;TZID=America/Chicago:20201222T093000
DTEND;TZID=America/Chicago:20201222T103000
LOCATION:
SUMMARY:Transportation: Walmart
END:VEVENT
END:VCALENDAR
