BEGIN:VCALENDAR
VERSION:2.0
PRODID:-//empowercdc.org//NONSGML kigkonsult.se iCalcreator 2.30.10//
CALSCALE:GREGORIAN
METHOD:PUBLISH
UID:558c243c-885b-42d4-817d-5c319adc4de2
X-WR-CALDESC:Registration required. Please keep mask on and maintain 6ft fr
 om each other. Residents each receive a plate of food to celebrate the hol
 idays.
X-WR-RELCALID:f75b01154cc78630e4d0794fbf0baec5
X-WR-TIMEZONE:America/Chicago
BEGIN:VTIMEZONE
TZID:America/Chicago
BEGIN:STANDARD
TZNAME:CST
DTSTART:20201101T020000
TZOFFSETFROM:-0500
TZOFFSETTO:-0600
RDATE:20211107T020000
END:STANDARD
BEGIN:DAYLIGHT
TZNAME:CDT
DTSTART:20200308T020000
TZOFFSETFROM:-0600
TZOFFSETTO:-0500
RDATE:20210314T020000
RDATE:20220313T020000
END:DAYLIGHT
END:VTIMEZONE
BEGIN:VEVENT
UID:4302a66a-3b70-4883-a550-90fb47e6cae6
DTSTAMP:20260424T203733Z
DESCRIPTION:Registration required. Please keep mask on and maintain 6ft fro
 m each other. Residents each receive a plate of food to celebrate the holi
 days.
DTSTART;TZID=America/Chicago:20201222T160000
DTEND;TZID=America/Chicago:20201222T163000
LOCATION:
SUMMARY:Holiday Grab and Go Meal Event
END:VEVENT
END:VCALENDAR
