BEGIN:VCALENDAR
VERSION:2.0
PRODID:-//empowercdc.org//NONSGML kigkonsult.se iCalcreator 2.30.10//
CALSCALE:GREGORIAN
METHOD:PUBLISH
UID:c74ed080-569a-435e-9c9b-ac07f64dbbab
X-WR-CALDESC:Register to receive a gift from EBH. Also\, take some time to 
 learn about crime prevention\, holiday safety tips and more!
X-WR-RELCALID:21fd2fded228b1bf587a6a26e3baf641
X-WR-TIMEZONE:America/Chicago
BEGIN:VTIMEZONE
TZID:America/Chicago
BEGIN:STANDARD
TZNAME:CST
DTSTART:20201101T020000
TZOFFSETFROM:-0500
TZOFFSETTO:-0600
RDATE:20211107T020000
END:STANDARD
BEGIN:DAYLIGHT
TZNAME:CDT
DTSTART:20200308T020000
TZOFFSETFROM:-0600
TZOFFSETTO:-0500
RDATE:20210314T020000
RDATE:20220313T020000
END:DAYLIGHT
END:VTIMEZONE
BEGIN:VEVENT
UID:e5c941f9-01cc-4bb8-9b58-80a84dabd9d3
DTSTAMP:20260424T203045Z
DESCRIPTION:Register to receive a gift from EBH. Also\, take some time to l
 earn about crime prevention\, holiday safety tips and more!
DTSTART;TZID=America/Chicago:20201218T140000
DTEND;TZID=America/Chicago:20201218T143000
LOCATION:
SUMMARY:Senior Holiday Gift Giveaway
END:VEVENT
END:VCALENDAR
