BEGIN:VCALENDAR
VERSION:2.0
PRODID:-//empowercdc.org//NONSGML kigkonsult.se iCalcreator 2.30.10//
CALSCALE:GREGORIAN
METHOD:PUBLISH
UID:22a0e82f-4399-4f84-a994-c9c2d70ec92a
X-WR-CALDESC:United Healthcare will be hosting this event.
X-WR-RELCALID:1d10792fb7a4e8f007822f703c5e7000
X-WR-TIMEZONE:America/Chicago
BEGIN:VTIMEZONE
TZID:America/Chicago
BEGIN:STANDARD
TZNAME:CST
DTSTART:20201101T020000
TZOFFSETFROM:-0500
TZOFFSETTO:-0600
RDATE:20211107T020000
END:STANDARD
BEGIN:DAYLIGHT
TZNAME:CDT
DTSTART:20200308T020000
TZOFFSETFROM:-0600
TZOFFSETTO:-0500
RDATE:20210314T020000
RDATE:20220313T020000
END:DAYLIGHT
END:VTIMEZONE
BEGIN:VEVENT
UID:a21139e8-d00d-4960-835b-f6686688376d
DTSTAMP:20260424T203116Z
DESCRIPTION:United Healthcare will be hosting this event.
DTSTART;TZID=America/Chicago:20201218T160000
DTEND;TZID=America/Chicago:20201218T163000
LOCATION:
SUMMARY:LET’S TALK ABOUT MEDICARE: CHAT WITH HEALTHCARE PLAN PROVIDER
END:VEVENT
END:VCALENDAR
