BEGIN:VCALENDAR
VERSION:2.0
PRODID:-//empowercdc.org//NONSGML kigkonsult.se iCalcreator 2.30.10//
CALSCALE:GREGORIAN
METHOD:PUBLISH
UID:00eb5974-5a1b-4ef6-a005-3d3f427bd5c4
X-WR-CALDESC:
X-WR-RELCALID:45b57a35ca3202ea57d9196a13fdd929
X-WR-TIMEZONE:America/Chicago
BEGIN:VTIMEZONE
TZID:America/Chicago
BEGIN:STANDARD
TZNAME:CST
DTSTART:20201101T020000
TZOFFSETFROM:-0500
TZOFFSETTO:-0600
RDATE:20211107T020000
END:STANDARD
BEGIN:DAYLIGHT
TZNAME:CDT
DTSTART:20200308T020000
TZOFFSETFROM:-0600
TZOFFSETTO:-0500
RDATE:20210314T020000
RDATE:20220313T020000
END:DAYLIGHT
END:VTIMEZONE
BEGIN:VEVENT
UID:16dba4db-14c0-4e5e-90ab-249dfb50c93e
DTSTAMP:20260424T203116Z
DESCRIPTION:
DTSTART;TZID=America/Chicago:20201218T150000
DTEND;TZID=America/Chicago:20201218T160000
LOCATION:
SUMMARY:Holiday Goodie Bag Grab & Go
END:VEVENT
END:VCALENDAR
