BEGIN:VCALENDAR
VERSION:2.0
PRODID:-//empowercdc.org//NONSGML kigkonsult.se iCalcreator 2.30.10//
CALSCALE:GREGORIAN
METHOD:PUBLISH
UID:b8c3e426-5fdc-4de1-a0ae-be6849d3b685
X-WR-CALDESC:Get your Christmas tree ready with your own personalized ornam
 ent!
X-WR-RELCALID:66e75be79635588edbbc649a1c51a9c0
X-WR-TIMEZONE:America/Chicago
BEGIN:VTIMEZONE
TZID:America/Chicago
BEGIN:STANDARD
TZNAME:CST
DTSTART:20201101T020000
TZOFFSETFROM:-0500
TZOFFSETTO:-0600
RDATE:20211107T020000
END:STANDARD
BEGIN:DAYLIGHT
TZNAME:CDT
DTSTART:20200308T020000
TZOFFSETFROM:-0600
TZOFFSETTO:-0500
RDATE:20210314T020000
RDATE:20220313T020000
END:DAYLIGHT
END:VTIMEZONE
BEGIN:VEVENT
UID:3348f5ee-5646-46ed-bf5b-b96fa942961c
DTSTAMP:20260424T202755Z
DESCRIPTION:Get your Christmas tree ready with your own personalized orname
 nt!
DTSTART;TZID=America/Chicago:20201217T160000
DTEND;TZID=America/Chicago:20201217T170000
LOCATION:
SUMMARY:Ornament Decorating
END:VEVENT
END:VCALENDAR
