BEGIN:VCALENDAR
VERSION:2.0
PRODID:-//empowercdc.org//NONSGML kigkonsult.se iCalcreator 2.30.10//
CALSCALE:GREGORIAN
METHOD:PUBLISH
UID:3e2c415e-6ac2-41c8-a5a2-4fabc304a2c3
X-WR-CALDESC:Registration is required. Each family will receive groceries.
X-WR-RELCALID:53621397d48046d2abdf0d07bd5c09d3
X-WR-TIMEZONE:America/Chicago
BEGIN:VTIMEZONE
TZID:America/Chicago
BEGIN:STANDARD
TZNAME:CST
DTSTART:20201101T020000
TZOFFSETFROM:-0500
TZOFFSETTO:-0600
RDATE:20211107T020000
END:STANDARD
BEGIN:DAYLIGHT
TZNAME:CDT
DTSTART:20200308T020000
TZOFFSETFROM:-0600
TZOFFSETTO:-0500
RDATE:20210314T020000
RDATE:20220313T020000
END:DAYLIGHT
END:VTIMEZONE
BEGIN:VEVENT
UID:ed22d9b0-23ce-43e0-b56b-55d8dec4403c
DTSTAMP:20260424T202948Z
DESCRIPTION:Registration is required. Each family will receive groceries.
DTSTART;TZID=America/Chicago:20201216T150000
DTEND;TZID=America/Chicago:20201216T153000
LOCATION:
SUMMARY:Sprouts Food Distribution
END:VEVENT
END:VCALENDAR
