BEGIN:VCALENDAR
VERSION:2.0
PRODID:-//empowercdc.org//NONSGML kigkonsult.se iCalcreator 2.30.10//
CALSCALE:GREGORIAN
METHOD:PUBLISH
UID:ab46d760-80d4-4339-b18e-0056f728f2ca
X-WR-CALDESC:Tai chi is a Chinese form of martial arts that involves slow\,
  controlled and low-impact movements that can be easy for seniors — even t
 hose with limited movement.
X-WR-RELCALID:7d2e3fa96cd5ccdfb2ce24fc6a2cb80e
X-WR-TIMEZONE:America/Chicago
BEGIN:VTIMEZONE
TZID:America/Chicago
BEGIN:STANDARD
TZNAME:CST
DTSTART:20201101T020000
TZOFFSETFROM:-0500
TZOFFSETTO:-0600
RDATE:20211107T020000
END:STANDARD
BEGIN:DAYLIGHT
TZNAME:CDT
DTSTART:20200308T020000
TZOFFSETFROM:-0600
TZOFFSETTO:-0500
RDATE:20210314T020000
RDATE:20220313T020000
END:DAYLIGHT
END:VTIMEZONE
BEGIN:VEVENT
UID:f136cced-2bd5-4968-95bd-2e4ea41cbaa6
DTSTAMP:20260424T203124Z
DESCRIPTION:Tai chi is a Chinese form of martial arts that involves slow\, 
 controlled and low-impact movements that can be easy for seniors — even th
 ose with limited movement.
DTSTART;TZID=America/Chicago:20201216T093000
DTEND;TZID=America/Chicago:20201216T103000
LOCATION:
SUMMARY:Virtual Tai Chi hosted by Baker Ripley
END:VEVENT
END:VCALENDAR
