BEGIN:VCALENDAR
VERSION:2.0
PRODID:-//empowercdc.org//NONSGML kigkonsult.se iCalcreator 2.30.10//
CALSCALE:GREGORIAN
METHOD:PUBLISH
UID:8788d7ac-7c72-4b0d-ae66-3a7b14f93dce
X-WR-CALDESC:Bring your gifts to the leasing office to be complimentary wra
 pped!
X-WR-RELCALID:b062bbce78e26a84d7488ba1d4b9e201
X-WR-TIMEZONE:America/Chicago
BEGIN:VTIMEZONE
TZID:America/Chicago
BEGIN:STANDARD
TZNAME:CST
DTSTART:20201101T020000
TZOFFSETFROM:-0500
TZOFFSETTO:-0600
RDATE:20211107T020000
END:STANDARD
BEGIN:DAYLIGHT
TZNAME:CDT
DTSTART:20200308T020000
TZOFFSETFROM:-0600
TZOFFSETTO:-0500
RDATE:20210314T020000
RDATE:20220313T020000
END:DAYLIGHT
END:VTIMEZONE
BEGIN:VEVENT
UID:f57bb37b-0834-455d-9114-27ef168da407
DTSTAMP:20260424T202810Z
DESCRIPTION:Bring your gifts to the leasing office to be complimentary wrap
 ped!
DTSTART;TZID=America/Chicago:20201215T163000
DTEND;TZID=America/Chicago:20201215T173000
LOCATION:
SUMMARY:Wrapping Party
END:VEVENT
END:VCALENDAR
