BEGIN:VCALENDAR
VERSION:2.0
PRODID:-//empowercdc.org//NONSGML kigkonsult.se iCalcreator 2.30.10//
CALSCALE:GREGORIAN
METHOD:PUBLISH
UID:4e3f31ca-d857-4923-adc1-a616a9aadffe
X-WR-CALDESC:Stop by to grab a cupcake\, ice cream cup and a refreshment!
X-WR-RELCALID:7a78c80da18e751ed2bc99e77cd9048e
X-WR-TIMEZONE:America/Chicago
BEGIN:VTIMEZONE
TZID:America/Chicago
BEGIN:STANDARD
TZNAME:CST
DTSTART:20201101T020000
TZOFFSETFROM:-0500
TZOFFSETTO:-0600
RDATE:20211107T020000
END:STANDARD
BEGIN:DAYLIGHT
TZNAME:CDT
DTSTART:20200308T020000
TZOFFSETFROM:-0600
TZOFFSETTO:-0500
RDATE:20210314T020000
RDATE:20220313T020000
END:DAYLIGHT
END:VTIMEZONE
BEGIN:VEVENT
UID:30072613-1323-4054-a972-8bacf76e8e98
DTSTAMP:20260424T203040Z
DESCRIPTION:Stop by to grab a cupcake\, ice cream cup and a refreshment!
DTSTART;TZID=America/Chicago:20201215T140000
DTEND;TZID=America/Chicago:20201215T143000
LOCATION:
SUMMARY:Grab and Go Birthday Social
END:VEVENT
END:VCALENDAR
