BEGIN:VCALENDAR
VERSION:2.0
PRODID:-//empowercdc.org//NONSGML kigkonsult.se iCalcreator 2.30.10//
CALSCALE:GREGORIAN
METHOD:PUBLISH
UID:bfbe0737-a47b-4138-83a7-f8eb5cf2546f
X-WR-CALDESC:Registration required for this event. Each resident will recei
 ve groceries from Sprouts.
X-WR-RELCALID:52d4780c8469854a3c33363f39207c72
X-WR-TIMEZONE:America/Chicago
BEGIN:VTIMEZONE
TZID:America/Chicago
BEGIN:STANDARD
TZNAME:CST
DTSTART:20201101T020000
TZOFFSETFROM:-0500
TZOFFSETTO:-0600
RDATE:20211107T020000
END:STANDARD
BEGIN:DAYLIGHT
TZNAME:CDT
DTSTART:20200308T020000
TZOFFSETFROM:-0600
TZOFFSETTO:-0500
RDATE:20210314T020000
RDATE:20220313T020000
END:DAYLIGHT
END:VTIMEZONE
BEGIN:VEVENT
UID:e2e63432-60b4-4ac9-9ad6-2028ff1f303c
DTSTAMP:20260424T202923Z
DESCRIPTION:Registration required for this event. Each resident will receiv
 e groceries from Sprouts.
DTSTART;TZID=America/Chicago:20201215T120000
DTEND;TZID=America/Chicago:20201215T123000
LOCATION:
SUMMARY:Food Distribution
END:VEVENT
END:VCALENDAR
