BEGIN:VCALENDAR
VERSION:2.0
PRODID:-//empowercdc.org//NONSGML kigkonsult.se iCalcreator 2.30.10//
CALSCALE:GREGORIAN
METHOD:PUBLISH
UID:cd487915-436f-4db5-a607-c8ef4ee5b6b6
X-WR-CALDESC:This is an opportunity for residents to catch up on some holid
 ay shopping!
X-WR-RELCALID:ccf5f3f49bae98598c0d2fdba2f5fd38
X-WR-TIMEZONE:America/Chicago
BEGIN:VTIMEZONE
TZID:America/Chicago
BEGIN:STANDARD
TZNAME:CST
DTSTART:20201101T020000
TZOFFSETFROM:-0500
TZOFFSETTO:-0600
RDATE:20211107T020000
END:STANDARD
BEGIN:DAYLIGHT
TZNAME:CDT
DTSTART:20200308T020000
TZOFFSETFROM:-0600
TZOFFSETTO:-0500
RDATE:20210314T020000
RDATE:20220313T020000
END:DAYLIGHT
END:VTIMEZONE
BEGIN:VEVENT
UID:6d4bc25f-271d-43fa-9900-132646dda2f9
DTSTAMP:20260424T202819Z
DESCRIPTION:This is an opportunity for residents to catch up on some holida
 y shopping!
DTSTART;TZID=America/Chicago:20201211T120000
DTEND;TZID=America/Chicago:20201211T130000
LOCATION:
SUMMARY:Outlets at Conroe
END:VEVENT
END:VCALENDAR
