BEGIN:VCALENDAR
VERSION:2.0
PRODID:-//empowercdc.org//NONSGML kigkonsult.se iCalcreator 2.30.10//
CALSCALE:GREGORIAN
METHOD:PUBLISH
UID:19f306b7-b088-4949-aa19-2b1ea8c1a79d
X-WR-CALDESC:**Contact Ms. Bri to register by Tuesday\, 12/8.\n
X-WR-RELCALID:55121da8f01b270d039251d45b28b706
X-WR-TIMEZONE:America/Chicago
BEGIN:VTIMEZONE
TZID:America/Chicago
BEGIN:STANDARD
TZNAME:CST
DTSTART:20201101T020000
TZOFFSETFROM:-0500
TZOFFSETTO:-0600
RDATE:20211107T020000
END:STANDARD
BEGIN:DAYLIGHT
TZNAME:CDT
DTSTART:20200308T020000
TZOFFSETFROM:-0600
TZOFFSETTO:-0500
RDATE:20210314T020000
RDATE:20220313T020000
END:DAYLIGHT
END:VTIMEZONE
BEGIN:VEVENT
UID:92d74952-e6e6-4973-9001-f4e4ecf41d08
DTSTAMP:20260424T202923Z
DESCRIPTION:**Contact Ms. Bri to register by Tuesday\, 12/8.\n
DTSTART;TZID=America/Chicago:20201210T083000
DTEND;TZID=America/Chicago:20201217T173000
LOCATION:
SUMMARY:Winter Holiday Tree Decorating Competition
END:VEVENT
END:VCALENDAR
