BEGIN:VCALENDAR
VERSION:2.0
PRODID:-//empowercdc.org//NONSGML kigkonsult.se iCalcreator 2.30.10//
CALSCALE:GREGORIAN
METHOD:PUBLISH
UID:9479aed4-4190-4177-a187-4ee93b5ffc32
X-WR-CALDESC:In-person activity that will take place in the\nClub Room. Res
 idents can receive a Walgreens\nflu shot and/or take the opportunity to sp
 eak\nwith a representative from:\n Freedom Insurance\n Tri-City Health S
 ervices\n Spirit of Texas Bank\n And many more!!!\nIf interested in rece
 iving the flu shot\, please\nbring your insurance card.\nSignup Sheets are
  in the Club Room.
X-WR-RELCALID:ad7158e3901402f35c2f87238bae9124
X-WR-TIMEZONE:America/Chicago
BEGIN:VTIMEZONE
TZID:America/Chicago
BEGIN:STANDARD
TZNAME:CST
DTSTART:20201101T020000
TZOFFSETFROM:-0500
TZOFFSETTO:-0600
RDATE:20211107T020000
END:STANDARD
BEGIN:DAYLIGHT
TZNAME:CDT
DTSTART:20200308T020000
TZOFFSETFROM:-0600
TZOFFSETTO:-0500
RDATE:20210314T020000
RDATE:20220313T020000
END:DAYLIGHT
END:VTIMEZONE
BEGIN:VEVENT
UID:deee51c0-e5aa-4d19-99a3-abe4e5af09ba
DTSTAMP:20260424T203044Z
DESCRIPTION:In-person activity that will take place in the\nClub Room. Resi
 dents can receive a Walgreens\nflu shot and/or take the opportunity to spe
 ak\nwith a representative from:\n Freedom Insurance\n Tri-City Health Se
 rvices\n Spirit of Texas Bank\n And many more!!!\nIf interested in recei
 ving the flu shot\, please\nbring your insurance card.\nSignup Sheets are 
 in the Club Room.
DTSTART;TZID=America/Chicago:20201210T140000
DTEND;TZID=America/Chicago:20201210T160000
LOCATION:
SUMMARY:Annual Health Fair
END:VEVENT
END:VCALENDAR
