BEGIN:VCALENDAR
VERSION:2.0
PRODID:-//empowercdc.org//NONSGML kigkonsult.se iCalcreator 2.30.10//
CALSCALE:GREGORIAN
METHOD:PUBLISH
UID:22259eaf-f5ac-4e70-beb1-51367919a4e7
X-WR-CALDESC:The bus will depart at 11 am
X-WR-RELCALID:493984ac6d2f8cea2d8c7a5b8cda2522
X-WR-TIMEZONE:America/Chicago
BEGIN:VTIMEZONE
TZID:America/Chicago
BEGIN:STANDARD
TZNAME:CST
DTSTART:20201101T020000
TZOFFSETFROM:-0500
TZOFFSETTO:-0600
RDATE:20211107T020000
END:STANDARD
BEGIN:DAYLIGHT
TZNAME:CDT
DTSTART:20200308T020000
TZOFFSETFROM:-0600
TZOFFSETTO:-0500
RDATE:20210314T020000
RDATE:20220313T020000
END:DAYLIGHT
END:VTIMEZONE
BEGIN:VEVENT
UID:3b2df369-89db-46f0-afb3-42eb6658a3c8
DTSTAMP:20260424T202757Z
DESCRIPTION:The bus will depart at 11 am
DTSTART;TZID=America/Chicago:20201209T110000
DTEND;TZID=America/Chicago:20201209T120000
LOCATION:
SUMMARY:Transportation: Cracker Barrel
END:VEVENT
END:VCALENDAR
