BEGIN:VCALENDAR
VERSION:2.0
PRODID:-//empowercdc.org//NONSGML kigkonsult.se iCalcreator 2.30.10//
CALSCALE:GREGORIAN
METHOD:PUBLISH
UID:8ad9366d-4122-46e3-b3fc-0356e3511ed2
X-WR-CALDESC:Heritage Bingo every 2nd & 4th\nWednesday of the month from\n3
 PM - 5PM in the Club Room.\nYou must register in order to\nparticipate. Li
 mited to 20 participants.\n\nSignup sheets are in the Club Room.\n\nFUN\, 
 GRAB AND GO SNACKS & PRIZES!
X-WR-RELCALID:affefea94da5bdb1b851766263c74ab3
X-WR-TIMEZONE:America/Chicago
BEGIN:VTIMEZONE
TZID:America/Chicago
BEGIN:STANDARD
TZNAME:CST
DTSTART:20201101T020000
TZOFFSETFROM:-0500
TZOFFSETTO:-0600
RDATE:20211107T020000
END:STANDARD
BEGIN:DAYLIGHT
TZNAME:CDT
DTSTART:20200308T020000
TZOFFSETFROM:-0600
TZOFFSETTO:-0500
RDATE:20210314T020000
RDATE:20220313T020000
END:DAYLIGHT
END:VTIMEZONE
BEGIN:VEVENT
UID:6180d2b8-debc-48e8-8798-a874f55eebe2
DTSTAMP:20260424T202904Z
DESCRIPTION:Heritage Bingo every 2nd & 4th\nWednesday of the month from\n3P
 M - 5PM in the Club Room.\nYou must register in order to\nparticipate. Lim
 ited to 20 participants.\n\nSignup sheets are in the Club Room.\n\nFUN\, G
 RAB AND GO SNACKS & PRIZES!
DTSTART;TZID=America/Chicago:20201209T150000
DTEND;TZID=America/Chicago:20201210T170000
LOCATION:
SUMMARY:Senior Bingo
END:VEVENT
END:VCALENDAR
