BEGIN:VCALENDAR
VERSION:2.0
PRODID:-//empowercdc.org//NONSGML kigkonsult.se iCalcreator 2.30.10//
CALSCALE:GREGORIAN
METHOD:PUBLISH
UID:56375332-375a-4cde-b7f5-eef6a0182d99
X-WR-CALDESC:
X-WR-RELCALID:37b4cecdfc84045aec85f6444c7121d3
X-WR-TIMEZONE:America/Chicago
BEGIN:VTIMEZONE
TZID:America/Chicago
BEGIN:STANDARD
TZNAME:CST
DTSTART:20201101T020000
TZOFFSETFROM:-0500
TZOFFSETTO:-0600
RDATE:20211107T020000
END:STANDARD
BEGIN:DAYLIGHT
TZNAME:CDT
DTSTART:20200308T020000
TZOFFSETFROM:-0600
TZOFFSETTO:-0500
RDATE:20210314T020000
RDATE:20220313T020000
END:DAYLIGHT
END:VTIMEZONE
BEGIN:VEVENT
UID:120e1db0-b40d-4807-a4ba-bff29738070e
DTSTAMP:20260424T202803Z
DESCRIPTION:
DTSTART;TZID=America/Chicago:20201204T163000
DTEND;TZID=America/Chicago:20201204T173000
LOCATION:
SUMMARY:Wrapping Party
END:VEVENT
END:VCALENDAR
