BEGIN:VCALENDAR
VERSION:2.0
PRODID:-//empowercdc.org//NONSGML kigkonsult.se iCalcreator 2.30.10//
CALSCALE:GREGORIAN
METHOD:PUBLISH
UID:6667f1de-d6bf-4806-8017-0cbd03df7557
X-WR-CALDESC:
X-WR-RELCALID:e69095e6737d95e10b300c72096fcc59
X-WR-TIMEZONE:America/Chicago
BEGIN:VTIMEZONE
TZID:America/Chicago
BEGIN:STANDARD
TZNAME:CST
DTSTART:20201101T020000
TZOFFSETFROM:-0500
TZOFFSETTO:-0600
RDATE:20211107T020000
END:STANDARD
BEGIN:DAYLIGHT
TZNAME:CDT
DTSTART:20200308T020000
TZOFFSETFROM:-0600
TZOFFSETTO:-0500
RDATE:20210314T020000
RDATE:20220313T020000
END:DAYLIGHT
END:VTIMEZONE
BEGIN:VEVENT
UID:7311c6e3-c213-4114-bc4f-2e9b03d64faa
DTSTAMP:20260424T202813Z
DESCRIPTION:
DTSTART;TZID=America/Chicago:20201204T160000
DTEND;TZID=America/Chicago:20201204T170000
LOCATION:
SUMMARY:Button Pushing
END:VEVENT
END:VCALENDAR
