BEGIN:VCALENDAR
VERSION:2.0
PRODID:-//empowercdc.org//NONSGML kigkonsult.se iCalcreator 2.30.10//
CALSCALE:GREGORIAN
METHOD:PUBLISH
UID:0b71736f-d0b2-47f0-8c2b-a9198842b97e
X-WR-CALDESC:Free Flu Shots!
X-WR-RELCALID:ab0439e97c0d9521e0d181deb1f945b4
X-WR-TIMEZONE:America/Chicago
BEGIN:VTIMEZONE
TZID:America/Chicago
BEGIN:STANDARD
TZNAME:CST
DTSTART:20201101T020000
TZOFFSETFROM:-0500
TZOFFSETTO:-0600
RDATE:20211107T020000
END:STANDARD
BEGIN:DAYLIGHT
TZNAME:CDT
DTSTART:20200308T020000
TZOFFSETFROM:-0600
TZOFFSETTO:-0500
RDATE:20210314T020000
RDATE:20220313T020000
END:DAYLIGHT
END:VTIMEZONE
BEGIN:VEVENT
UID:fcbe7d74-27a4-423d-8a34-1cd8cf9f3cbe
DTSTAMP:20260424T220643Z
DESCRIPTION:Free Flu Shots!
DTSTART;TZID=America/Chicago:20201130T163000
DTEND;TZID=America/Chicago:20201130T173000
LOCATION:
SUMMARY:Annual Health Fair
END:VEVENT
END:VCALENDAR
