BEGIN:VCALENDAR
VERSION:2.0
PRODID:-//empowercdc.org//NONSGML kigkonsult.se iCalcreator 2.30.10//
CALSCALE:GREGORIAN
METHOD:PUBLISH
UID:755c3766-c6ea-41c1-b539-7b22afea943a
X-WR-CALDESC:
X-WR-RELCALID:49ad7075951b184fc053a002fe0b3965
X-WR-TIMEZONE:America/Chicago
BEGIN:VTIMEZONE
TZID:America/Chicago
BEGIN:STANDARD
TZNAME:CST
DTSTART:20201101T020000
TZOFFSETFROM:-0500
TZOFFSETTO:-0600
RDATE:20211107T020000
END:STANDARD
BEGIN:DAYLIGHT
TZNAME:CDT
DTSTART:20200308T020000
TZOFFSETFROM:-0600
TZOFFSETTO:-0500
RDATE:20210314T020000
RDATE:20220313T020000
END:DAYLIGHT
END:VTIMEZONE
BEGIN:VEVENT
UID:217855d1-cb85-4925-8a78-7c9eb5c91aa1
DTSTAMP:20260424T220449Z
DESCRIPTION:
DTSTART;TZID=America/Chicago:20201125T150000
DTEND;TZID=America/Chicago:20201125T160000
LOCATION:
SUMMARY:Bingo
END:VEVENT
END:VCALENDAR
