BEGIN:VCALENDAR
VERSION:2.0
PRODID:-//empowercdc.org//NONSGML kigkonsult.se iCalcreator 2.30.10//
CALSCALE:GREGORIAN
METHOD:PUBLISH
UID:06f8150e-483a-4953-bf40-111f6a55dd11
X-WR-CALDESC:This is an opportunity for seniors to catch up on some holiday
  shopping!
X-WR-RELCALID:7a3da5ef18760bdbdb743f79aab0456f
X-WR-TIMEZONE:America/Chicago
BEGIN:VTIMEZONE
TZID:America/Chicago
BEGIN:STANDARD
TZNAME:CST
DTSTART:20201101T020000
TZOFFSETFROM:-0500
TZOFFSETTO:-0600
RDATE:20211107T020000
END:STANDARD
BEGIN:DAYLIGHT
TZNAME:CDT
DTSTART:20200308T020000
TZOFFSETFROM:-0600
TZOFFSETTO:-0500
RDATE:20210314T020000
RDATE:20220313T020000
END:DAYLIGHT
END:VTIMEZONE
BEGIN:VEVENT
UID:a4a57c3a-fa44-414f-bbac-99007d3319ac
DTSTAMP:20260424T220448Z
DESCRIPTION:This is an opportunity for seniors to catch up on some holiday 
 shopping!
DTSTART;TZID=America/Chicago:20201124T190000
DTEND;TZID=America/Chicago:20201124T200000
LOCATION:
SUMMARY:Outlets at Conroe
END:VEVENT
END:VCALENDAR
