BEGIN:VCALENDAR
VERSION:2.0
PRODID:-//empowercdc.org//NONSGML kigkonsult.se iCalcreator 2.30.10//
CALSCALE:GREGORIAN
METHOD:PUBLISH
UID:65abb7b4-f12a-4816-8afd-a6ff2748eec3
X-WR-CALDESC:
X-WR-RELCALID:0b41677bb67bbfd6df7093bb70150328
X-WR-TIMEZONE:America/Chicago
BEGIN:VTIMEZONE
TZID:America/Chicago
BEGIN:STANDARD
TZNAME:CST
DTSTART:20201101T020000
TZOFFSETFROM:-0500
TZOFFSETTO:-0600
RDATE:20211107T020000
END:STANDARD
BEGIN:DAYLIGHT
TZNAME:CDT
DTSTART:20200308T020000
TZOFFSETFROM:-0600
TZOFFSETTO:-0500
RDATE:20210314T020000
RDATE:20220313T020000
END:DAYLIGHT
END:VTIMEZONE
BEGIN:VEVENT
UID:c995218a-b58a-4b12-8757-c230b130f622
DTSTAMP:20260424T220650Z
DESCRIPTION:
DTSTART;TZID=America/Chicago:20201124T160000
DTEND;TZID=America/Chicago:20201124T170000
LOCATION:
SUMMARY:Is Medicare Right for You?
END:VEVENT
END:VCALENDAR
