BEGIN:VCALENDAR
VERSION:2.0
PRODID:-//empowercdc.org//NONSGML kigkonsult.se iCalcreator 2.30.10//
CALSCALE:GREGORIAN
METHOD:PUBLISH
UID:9b800c86-cae1-4ed1-b354-57ab1a346d2c
X-WR-CALDESC:
X-WR-RELCALID:225468f6e52937baa00aad23cdcbc6dc
X-WR-TIMEZONE:America/Chicago
BEGIN:VTIMEZONE
TZID:America/Chicago
BEGIN:STANDARD
TZNAME:CST
DTSTART:20201101T020000
TZOFFSETFROM:-0500
TZOFFSETTO:-0600
RDATE:20211107T020000
END:STANDARD
BEGIN:DAYLIGHT
TZNAME:CDT
DTSTART:20200308T020000
TZOFFSETFROM:-0600
TZOFFSETTO:-0500
RDATE:20210314T020000
RDATE:20220313T020000
END:DAYLIGHT
END:VTIMEZONE
BEGIN:VEVENT
UID:5343a8a3-8776-42e2-8396-23d8c17072fe
DTSTAMP:20260424T220612Z
DESCRIPTION:
DTSTART;TZID=America/Chicago:20201123T110000
DTEND;TZID=America/Chicago:20201123T120000
LOCATION:
SUMMARY:Transportation to HEB
END:VEVENT
END:VCALENDAR
