BEGIN:VCALENDAR
VERSION:2.0
PRODID:-//empowercdc.org//NONSGML kigkonsult.se iCalcreator 2.30.10//
CALSCALE:GREGORIAN
METHOD:PUBLISH
UID:7c25349a-b3e3-474e-b85f-3e675f79c6e0
X-WR-CALDESC:
X-WR-RELCALID:07951b89d722ac726b9320a98962f93e
X-WR-TIMEZONE:America/Chicago
BEGIN:VTIMEZONE
TZID:America/Chicago
BEGIN:STANDARD
TZNAME:CST
DTSTART:20201101T020000
TZOFFSETFROM:-0500
TZOFFSETTO:-0600
RDATE:20211107T020000
END:STANDARD
BEGIN:DAYLIGHT
TZNAME:CDT
DTSTART:20200308T020000
TZOFFSETFROM:-0600
TZOFFSETTO:-0500
RDATE:20210314T020000
RDATE:20220313T020000
END:DAYLIGHT
END:VTIMEZONE
BEGIN:VEVENT
UID:39bcb3a2-8493-40ec-ac6b-170bce91d6f4
DTSTAMP:20260424T220925Z
DESCRIPTION:
DTSTART;TZID=America/Chicago:20201120T100000
DTEND;TZID=America/Chicago:20201120T110000
LOCATION:
SUMMARY:TRIP TO THE WOODLANDS MALL
END:VEVENT
END:VCALENDAR
