BEGIN:VCALENDAR
VERSION:2.0
PRODID:-//empowercdc.org//NONSGML kigkonsult.se iCalcreator 2.30.10//
CALSCALE:GREGORIAN
METHOD:PUBLISH
UID:49d44ec2-7643-403e-ada5-9499fc791e41
X-WR-CALDESC:Learn how to sustain independence through healthy meal pattern
 s\, resource management\, and physical activity.
X-WR-RELCALID:8c9a166e1c168ddf13e218e0ad9b7923
X-WR-TIMEZONE:America/Chicago
BEGIN:VTIMEZONE
TZID:America/Chicago
BEGIN:STANDARD
TZNAME:CST
DTSTART:20201101T020000
TZOFFSETFROM:-0500
TZOFFSETTO:-0600
RDATE:20211107T020000
END:STANDARD
BEGIN:DAYLIGHT
TZNAME:CDT
DTSTART:20200308T020000
TZOFFSETFROM:-0600
TZOFFSETTO:-0500
RDATE:20210314T020000
RDATE:20220313T020000
END:DAYLIGHT
END:VTIMEZONE
BEGIN:VEVENT
UID:c65efeb0-785f-4194-9f1e-654be0c0cbfa
DTSTAMP:20260424T220741Z
DESCRIPTION:Learn how to sustain independence through healthy meal patterns
 \, resource management\, and physical activity.
DTSTART;TZID=America/Chicago:20201120T173000
DTEND;TZID=America/Chicago:20201120T183000
LOCATION:
SUMMARY:Joyfully Healthy
END:VEVENT
END:VCALENDAR
